BEGIN:VCALENDAR
VERSION:2.0
CALSCALE:GREGORIAN
PRODID:-//Diputació de Barcelona//DibaCMS//EN
BEGIN:VEVENT
UID:3690
DTSTAMP:20260420T202227
DTSTART:20250426T000000
DTEND:20250427T000000
SUMMARY:Roda d'Esbarts Catalònia infantils i juvenils
LOCATION:La Font Gran 08691 Monistrol de Montserrat
METHOD:PUBLISH
X-WR-CALNAME:monistrolm@monistroldemontserrat.cat
X-WR-TIMEZONE:Europe/Madrid
DESCRIPTION:
URI:https://www.monistroldemontserrat.cat/sobras/govern/agenda-politica/roda-desbarts-catalonia-infantils-i-juvenils.html
CLASS:PUBLIC
END:VEVENT
END:VCALENDAR
