BEGIN:VCALENDAR
VERSION:2.0
CALSCALE:GREGORIAN
PRODID:-//Diputació de Barcelona//DibaCMS//EN
BEGIN:VEVENT
UID:3697
DTSTAMP:20260420T233934
DTSTART:20250510T000000
DTEND:20250511T235900
SUMMARY:Trobada de la cançó - Agrupament Escolta i Guia a la Bestorre
LOCATION:La Bestorre 08691 Monistrol de Montserrat
METHOD:PUBLISH
X-WR-CALNAME:monistrolm@monistroldemontserrat.cat
X-WR-TIMEZONE:Europe/Madrid
DESCRIPTION:
URI:https://www.monistroldemontserrat.cat//continguts//trobada-de-la-canco-agrupament-escolta-i-guia-a-la-bestorre.html
CLASS:PUBLIC
END:VEVENT
END:VCALENDAR
