BEGIN:VCALENDAR
VERSION:2.0
CALSCALE:GREGORIAN
PRODID:-//Diputació de Barcelona//DibaCMS//EN
BEGIN:VEVENT
UID:3724
DTSTAMP:20260420T235705
DTSTART:20250517T200000
DTEND:20250518T000000
SUMMARY:Botifarrada
LOCATION:Avinguda de l'Abat Escarré 08691 Monistrol de Montserrat
METHOD:PUBLISH
X-WR-CALNAME:monistrolm@monistroldemontserrat.cat
X-WR-TIMEZONE:Europe/Madrid
DESCRIPTION:El proper dissabte 17 de maig tindrà lloc una botifarrada popular a l’Espai Joan Carles Amat a les 20 h. L’activitat inclou un sopar complet i els tiquets es poden adquirir anticipadament. A continuació, els detalls:

URI:https://www.monistroldemontserrat.cat//continguts//botifarrada.html
CLASS:PUBLIC
END:VEVENT
END:VCALENDAR
