BEGIN:VCALENDAR
VERSION:2.0
CALSCALE:GREGORIAN
PRODID:-//Diputació de Barcelona//DibaCMS//EN
BEGIN:VEVENT
UID:3725
DTSTAMP:20260420T202301
DTSTART:20250517T203000
DTEND:20250518T000000
SUMMARY:Concert d'havaneres
LOCATION:
METHOD:PUBLISH
X-WR-CALNAME:monistrolm@monistroldemontserrat.cat
X-WR-TIMEZONE:Europe/Madrid
DESCRIPTION:El dissabte 17 de maig, després de la botifarrada, se celebrarà un concert d’havaneres a l’Espai Joan Carles Amat.

URI:https://www.monistroldemontserrat.cat//continguts//concert-dhavaneres.html
CLASS:PUBLIC
END:VEVENT
END:VCALENDAR
