BEGIN:VCALENDAR
VERSION:2.0
CALSCALE:GREGORIAN
PRODID:-//Diputació de Barcelona//DibaCMS//EN
BEGIN:VEVENT
UID:3730
DTSTAMP:20260421T000704
DTSTART:20250522T173000
DTEND:20250522T193000
SUMMARY:Juguem en familia
LOCATION:La Font Gran 08691 Monistrol de Montserrat
METHOD:PUBLISH
X-WR-CALNAME:monistrolm@monistroldemontserrat.cat
X-WR-TIMEZONE:Europe/Madrid
DESCRIPTION:🎉 Juguem en família!
Vine a passar una tarda divertida i plena d’activitats per a petits i grans!

URI:https://www.monistroldemontserrat.cat//continguts//3730-juguem-en-familia.html
CLASS:PUBLIC
END:VEVENT
END:VCALENDAR
