BEGIN:VCALENDAR
VERSION:2.0
CALSCALE:GREGORIAN
PRODID:-//Diputació de Barcelona//DibaCMS//EN
BEGIN:VEVENT
UID:3736
DTSTAMP:20260421T030526
DTSTART:20250528T170000
DTEND:20250528T200000
SUMMARY:Retorn a tu mateixa
LOCATION:
METHOD:PUBLISH
X-WR-CALNAME:monistrolm@monistroldemontserrat.cat
X-WR-TIMEZONE:Europe/Madrid
DESCRIPTION:🌿 Taller Gratuït: Retorn a tu mateixa 🌿

URI:https://www.monistroldemontserrat.cat//continguts//retorn-a-tu-mateixa.html
CLASS:PUBLIC
END:VEVENT
END:VCALENDAR
