BEGIN:VCALENDAR
VERSION:2.0
CALSCALE:GREGORIAN
PRODID:-//Diputació de Barcelona//DibaCMS//EN
BEGIN:VEVENT
UID:3815
DTSTAMP:20260420T221225
DTSTART:20250727T090000
DTEND:20250727T140000
SUMMARY:Torneig de Futbol Sala - Festa Major
LOCATION:Avinguda de l'Abat Escarré 08691 Monistrol de Montserrat
METHOD:PUBLISH
X-WR-CALNAME:monistrolm@monistroldemontserrat.cat
X-WR-TIMEZONE:Europe/Madrid
DESCRIPTION:TORNEIG DE FUTBOL SALA
FESTA MAJOR
MONISTROL DE MONTSERRAT

DIUMENGE 27 DE JULIOL, PAVELLÓ MUNICIPAL
CATEGORIES INFANTIL I CADET

inscripcions a: https://docs.google.com/forms/d/1YsfrDINS9Na1rZsqyc_mXykavYyr_LFtd3NOUFgu4qU/edit

URI:https://www.monistroldemontserrat.cat/sobras/govern/agenda-politica/torneig-de-futbol-sala-festa-major.html
CLASS:PUBLIC
END:VEVENT
END:VCALENDAR
