BEGIN:VCALENDAR
VERSION:2.0
CALSCALE:GREGORIAN
PRODID:-//Diputació de Barcelona//DibaCMS//EN
BEGIN:VEVENT
UID:3826
DTSTAMP:20260419T152417
DTSTART:20251031T000000
DTEND:20251101T100000
SUMMARY:Dia de Tots Sants / Castanyada / Halloween 
LOCATION:
METHOD:PUBLISH
X-WR-CALNAME:monistrolm@monistroldemontserrat.cat
X-WR-TIMEZONE:Europe/Madrid
DESCRIPTION:Events de tardor: 
25-26 de octubre: Fira de la Coca i el Mató 
6 de novembre:  Una atenció integral en el dol
8 de novembre: Correfoc, festa de la tardor i passatge del terror.

 

 

URI:https://www.monistroldemontserrat.cat//continguts//dia-de-tots-sants--castanyada--halloween-.html
CLASS:PUBLIC
END:VEVENT
END:VCALENDAR
