BEGIN:VCALENDAR
VERSION:2.0
CALSCALE:GREGORIAN
PRODID:-//Diputació de Barcelona//DibaCMS//EN
BEGIN:VEVENT
UID:3833
DTSTAMP:20260420T221042
DTSTART:20250720T200000
DTEND:20250720T220000
SUMMARY:Cursa popular - Festa Major
LOCATION:Avinguda de l'Abat Escarré 08691 Monistrol de Montserrat
METHOD:PUBLISH
X-WR-CALNAME:monistrolm@monistroldemontserrat.cat
X-WR-TIMEZONE:Europe/Madrid
DESCRIPTION:ITINERARI:
Sortida a Pavelló Pau Ribas, camí del Pou, carrer escoles, carrer Jacint Verdaguer, carrer Julià Fuchs, carrer Puig, carrer Sant Pere, carrer Manresa, el Pontet, parc de l’Albernia, pg. de la Canaleta, plaça de la Font Gran.
Inscripcions: https://docs.google.com/forms/d/1gHLnBpOzFyMErDoO6HlTBycAB-SVqkWWvNwRpcE-_X0/edit

URI:https://www.monistroldemontserrat.cat//continguts//cursa-popular-festa-major.html
CLASS:PUBLIC
END:VEVENT
END:VCALENDAR
