BEGIN:VCALENDAR
VERSION:2.0
CALSCALE:GREGORIAN
PRODID:-//Diputació de Barcelona//DibaCMS//EN
BEGIN:VEVENT
UID:3834
DTSTAMP:20260420T221118
DTSTART:20250720T100000
DTEND:20250720T150000
SUMMARY:Concurs de paelles - Festa Major
LOCATION:La Font Gran 08691 Monistrol de Montserrat
METHOD:PUBLISH
X-WR-CALNAME:monistrolm@monistroldemontserrat.cat
X-WR-TIMEZONE:Europe/Madrid
DESCRIPTION:PARTICIPACIÓ


	
	Poden participar totes aquelles persones que ho desitgin. La participació podrà ser individual o per grups sense límit de participants.
	
	
	La inscripció al concurs s’haurà de realitzar a la pàgina web de l’Ajuntament
	(www.monistroldemontserrat.cat).
	
	
	La paella podrà elaborar-se amb llenya o amb gas.
	En cas de treballar-se amb llenya, s’haurà de protegir l’asfalt.
	
	
	El tipus de paella o arròs serà lliure, i tot el material necessari l’ha de portar cada grup participant (paella, bombona de gas, fusta, estris, ingredients del plat) així com el que es vulgui per parar taula.
	
	
	La presentació de les paelles al jurat es realitzarà a partir de les 14:00 h fins les 15 h. Les paelles s’hauran d’elaborar in situ, prèviament a la deliberació per part del jurat.
	
	
	Les paelles seran valorades per un jurat triat, prèviament, per la Regidoria de Festes, Esports i Cultura de l’Ajuntament de Monistrol de Montserrat.
	Es tindran en compte l’aspecte, l’aroma, el sabor, l’originalitat i el punt d’arròs.
	
	
	El jurat atorgarà els següents premis, segons criteris descrits anteriorment:
	Primer premi: una ampolla de cava,
	Segon premi: una ampolla de vi,
	Tercer premi: una ampolla de vi.
	
	
	L’Ajuntament de Monistrol posa a disposició de tots els participants una taula amb 4 cadires, però no s’assegura disponibilitat d’ombres. S’aconsella dur carpes o para-sols.
	
	
	Aquestes bases podran ser modificades en funció de les circumstàncies esdevingudes.
	


Inscripcions a: https://docs.google.com/forms/d/1Gd6OMMmmGWY_e6FHJGvKtNHdE0AplhKE_5a8udLOQKU/edit

URI:https://www.monistroldemontserrat.cat//continguts//concurs-de-paelles-festa-major.html
CLASS:PUBLIC
END:VEVENT
END:VCALENDAR
