BEGIN:VCALENDAR
VERSION:2.0
CALSCALE:GREGORIAN
PRODID:-//Diputació de Barcelona//DibaCMS//EN
BEGIN:VEVENT
UID:3836
DTSTAMP:20260420T221155
DTSTART:20250726T180000
DTEND:20250726T193000
SUMMARY:Torneig de petanca - Festa Major
LOCATION:
METHOD:PUBLISH
X-WR-CALNAME:monistrolm@monistroldemontserrat.cat
X-WR-TIMEZONE:Europe/Madrid
DESCRIPTION: Inscripcions per whatsapp al tel. 692427212

URI:https://www.monistroldemontserrat.cat//continguts//torneig-de-petanca-festa-major.html
CLASS:PUBLIC
END:VEVENT
END:VCALENDAR
