BEGIN:VCALENDAR
VERSION:2.0
CALSCALE:GREGORIAN
PRODID:-//Diputació de Barcelona//DibaCMS//EN
BEGIN:VEVENT
UID:3838
DTSTAMP:20260420T221250
DTSTART:20250718T193000
DTEND:20250718T230000
SUMMARY:Pregó i Pubillatge - Festa Major
LOCATION:La Font Gran 08691 Monistrol de Montserrat
METHOD:PUBLISH
X-WR-CALNAME:monistrolm@monistroldemontserrat.cat
X-WR-TIMEZONE:Europe/Madrid
DESCRIPTION:🕢 19:30h
Pregó de Festa Major
A càrrec de l'Esbart Monistrol Dansaire, Colla de diables Els Tronats, AFIG la Bestorre i els Pastorets de Monistrol

➕

Proclamació Pubillatge 2025

🕙 22h
LOVE
Actuació musical en directe

📍 DIVENDRES 18 DE JULIOL – PLAÇA DE LA FONT GRAN

URI:https://www.monistroldemontserrat.cat//continguts//prego-i-pubillatge-festa-major.html
CLASS:PUBLIC
END:VEVENT
END:VCALENDAR
