BEGIN:VCALENDAR
VERSION:2.0
CALSCALE:GREGORIAN
PRODID:-//Diputació de Barcelona//DibaCMS//EN
BEGIN:VEVENT
UID:3843
DTSTAMP:20260420T235322
DTSTART:20250725T120000
DTEND:20250727T200000
SUMMARY:Exposició Joan Centellas
LOCATION:C/ Pont, 3 08691 Monistrol de Montserrat
METHOD:PUBLISH
X-WR-CALNAME:monistrolm@monistroldemontserrat.cat
X-WR-TIMEZONE:Europe/Madrid
DESCRIPTION:Horaris:

Dia 25: 12:00 - 14:00 i 18:00 - 20:00

Dies 26 i 27: 11:00 - 13:00 i 18:00 - 20:00

URI:https://www.monistroldemontserrat.cat//continguts//exposicio-joan-centellas.html
CLASS:PUBLIC
END:VEVENT
END:VCALENDAR
