BEGIN:VCALENDAR
VERSION:2.0
CALSCALE:GREGORIAN
PRODID:-//Diputació de Barcelona//DibaCMS//EN
BEGIN:VEVENT
UID:3898
DTSTAMP:20260421T000038
DTSTART:20251108T183000
DTEND:20251108T203000
SUMMARY:Passatge del terror 2025
LOCATION:CARRER MOSSÈN CINTO VERDAGUER ( ENTRADA PER CAMÍ DE L'ÀNGEL ) 
METHOD:PUBLISH
X-WR-CALNAME:monistrolm@monistroldemontserrat.cat
X-WR-TIMEZONE:Europe/Madrid
DESCRIPTION:ENLLAÇ D'INSCRIPCIÓ

URI:https://www.monistroldemontserrat.cat/sobras/govern/agenda-politica/passatge-del-terror-2025.html
CLASS:PUBLIC
END:VEVENT
END:VCALENDAR
