BEGIN:VCALENDAR
VERSION:2.0
CALSCALE:GREGORIAN
PRODID:-//Diputació de Barcelona//DibaCMS//EN
BEGIN:VEVENT
UID:3900
DTSTAMP:20260421T020923
DTSTART:20251106T230000
DTEND:20251107T030000
SUMMARY:Festa de la Tardor
LOCATION:Sala Joan Carles i Amat 
METHOD:PUBLISH
X-WR-CALNAME:monistrolm@monistroldemontserrat.cat
X-WR-TIMEZONE:Europe/Madrid
DESCRIPTION:FESTA DE TARDOR DE MONISTROL DE MONTSERRAT

DISSABTE 8 DE NOVEMBRE, A LES 23H, SALA JOAN CARLES AMAT

AMB DJ ARZETT

ENTRADA GRATUÏTA

URI:https://www.monistroldemontserrat.cat//continguts//3900-festa-de-la-tardor.html
CLASS:PUBLIC
END:VEVENT
END:VCALENDAR
