BEGIN:VCALENDAR
VERSION:2.0
CALSCALE:GREGORIAN
PRODID:-//Diputació de Barcelona//DibaCMS//EN
BEGIN:VEVENT
UID:3917
DTSTAMP:20260421T014531
DTSTART:20251125T173000
DTEND:20251125T190000
SUMMARY:25N: Taller d'autodefensa per a dones
LOCATION:
METHOD:PUBLISH
X-WR-CALNAME:monistrolm@monistroldemontserrat.cat
X-WR-TIMEZONE:Europe/Madrid
DESCRIPTION: 

Taller d'autodefensa personal per a dones, impartit pel Xavi Avilés, el dimarts 25 de novembre, a les 17.30 h a l'Escola Sant Pere. Inscriu-te al següent Formulari 

El taller pretén ser un primer contacte amb la defensa personal on s'abordaran tècniques bàsiques per defensar-se física i psicològicament. Un espai per compartir autoconeixement individuall i col.lectiu, facilitant l'apoderament de les dones.

URI:https://www.monistroldemontserrat.cat//continguts//25n-taller-dautodefensa-per-a-dones.html
CLASS:PUBLIC
END:VEVENT
END:VCALENDAR
