BEGIN:VCALENDAR
VERSION:2.0
CALSCALE:GREGORIAN
PRODID:-//Diputació de Barcelona//DibaCMS//EN
BEGIN:VEVENT
UID:3918
DTSTAMP:20260421T000635
DTSTART:20251130T093000
DTEND:20251130T133000
SUMMARY:Toca donar sang
LOCATION:
METHOD:PUBLISH
X-WR-CALNAME:monistrolm@monistroldemontserrat.cat
X-WR-TIMEZONE:Europe/Madrid
DESCRIPTION:Toca donar sang.

Data: diumenge, 30 novembre

Lloc: Sala Joan Carles Amat

URI:https://www.monistroldemontserrat.cat//continguts//3918-toca-donar-sang.html
CLASS:PUBLIC
END:VEVENT
END:VCALENDAR
