BEGIN:VCALENDAR
VERSION:2.0
CALSCALE:GREGORIAN
PRODID:-//Diputació de Barcelona//DibaCMS//EN
BEGIN:VEVENT
UID:3920
DTSTAMP:20260426T025154
DTSTART:20260126T100000
DTEND:20260126T120000
SUMMARY:Propera visita policia per fer DNI: 26 de gener
LOCATION:
METHOD:PUBLISH
X-WR-CALNAME:monistrolm@monistroldemontserrat.cat
X-WR-TIMEZONE:Europe/Madrid
DESCRIPTION:Horari: de 10 a 12 hores

Lloc: Ajuntament de Monistrol de Montserrat (Plaça de la Font Gran, 2)

Llista plena, no s'admeten més visites. 

URI:https://www.monistroldemontserrat.cat//continguts//propera-visita-policia-per-fer-dni-26-de-gener.html
CLASS:PUBLIC
END:VEVENT
END:VCALENDAR
