BEGIN:VCALENDAR
VERSION:2.0
CALSCALE:GREGORIAN
PRODID:-//Diputació de Barcelona//DibaCMS//EN
BEGIN:VEVENT
UID:3924
DTSTAMP:20260421T000808
DTSTART:20251125T000000
DTEND:20251125T230000
SUMMARY:25 N A MONISTROL DE MONTSERRAT
LOCATION:
METHOD:PUBLISH
X-WR-CALNAME:monistrolm@monistroldemontserrat.cat
X-WR-TIMEZONE:Europe/Madrid
DESCRIPTION:
URI:https://www.monistroldemontserrat.cat//continguts//25-n-a-monistrol-de-montserrat.html
CLASS:PUBLIC
END:VEVENT
END:VCALENDAR
