BEGIN:VCALENDAR
VERSION:2.0
CALSCALE:GREGORIAN
PRODID:-//Diputació de Barcelona//DibaCMS//EN
BEGIN:VEVENT
UID:3952
DTSTAMP:20260426T025214
DTSTART:20260122T103000
DTEND:20260122T130000
SUMMARY:Oficina mòbil d'informació al consumidor
LOCATION:Sala de Plens de l'Ajuntament. 
METHOD:PUBLISH
X-WR-CALNAME:monistrolm@monistroldemontserrat.cat
X-WR-TIMEZONE:Europe/Madrid
DESCRIPTION:Oficina Mòbil d'Informació al Consumidor de la Diputació de Barcelona. 

URI:https://www.monistroldemontserrat.cat//continguts//3952-oficina-mobil-dinformacio-al-consumidor.html
CLASS:PUBLIC
END:VEVENT
END:VCALENDAR
