BEGIN:VCALENDAR
VERSION:2.0
CALSCALE:GREGORIAN
PRODID:-//Diputació de Barcelona//DibaCMS//EN
BEGIN:VEVENT
UID:4020
DTSTAMP:20260420T184611
DTSTART:20260426T100000
DTEND:20260426T190000
SUMMARY:Visita cultural indrets històrics del municipi
LOCATION:
METHOD:PUBLISH
X-WR-CALNAME:monistrolm@monistroldemontserrat.cat
X-WR-TIMEZONE:Europe/Madrid
DESCRIPTION:
	10 h: Visita cultural a indrets històrics del municipi. Inici Plaça Joan Carles Amat.
	18 h: Sala d'actes de Can Gibert. Presentació del llibre: "Montserrat, tradicions, llegendes" de Joan Amades.


URI:https://www.monistroldemontserrat.cat/sobras/govern/agenda-politica/visita-cultural-indrets-historics-del-municipi.html
CLASS:PUBLIC
END:VEVENT
END:VCALENDAR
