BEGIN:VCALENDAR
VERSION:2.0
CALSCALE:GREGORIAN
PRODID:-//Diputació de Barcelona//DibaCMS//EN
BEGIN:VEVENT
UID:4021
DTSTAMP:20260421T143529
DTSTART:20260423T093000
DTEND:20260423T123000
SUMMARY:Roda de contes
LOCATION:Can Gibert, Plaça del Bo-bó, Plaça de l'Església i Passeig de la Canaleta
 
METHOD:PUBLISH
X-WR-CALNAME:monistrolm@monistroldemontserrat.cat
X-WR-TIMEZONE:Europe/Madrid
DESCRIPTION:
URI:https://www.monistroldemontserrat.cat//continguts//roda-de-contes.html
CLASS:PUBLIC
END:VEVENT
END:VCALENDAR
