BEGIN:VCALENDAR
VERSION:2.0
CALSCALE:GREGORIAN
PRODID:-//Diputació de Barcelona//DibaCMS//EN
BEGIN:VEVENT
UID:4022
DTSTAMP:20260424T154538
DTSTART:20260426T180000
DTEND:20260426T193000
SUMMARY:Presentació del llibre "Montserrat. Tradicions i llegendes" de Joan Amades
LOCATION:Sala d'actes de Can Gibert (c. Sant Joan, 1) 
METHOD:PUBLISH
X-WR-CALNAME:monistrolm@monistroldemontserrat.cat
X-WR-TIMEZONE:Europe/Madrid
DESCRIPTION:L'historiador i membre de la Junta de l'Associació Cultural Joan Amades presentarà el llibre "Montserrat. Tradicions i llegendes" de Joan Amades.

 

URI:https://www.monistroldemontserrat.cat//continguts//presentacio-del-llibre-montserrat-tradicions-i-llegendes-de-joan-amades.html
CLASS:PUBLIC
END:VEVENT
END:VCALENDAR
